View In:
ArcGIS JavaScript
ArcGIS Online Map Viewer
ArcGIS Earth
ArcMap
View Footprint In:
ArcGIS Online Map Viewer
Service Description: ANSS_Aerials/2022_Big_Tujunga_Reservoir
Name: ANSS_Aerials/2022_Big_Tujunga_Reservoir
Description:
Single Fused Map Cache: false
Extent:
XMin: 6504290.3905
YMin: 1928503.5595
XMax: 6511437.3905
YMax: 1933432.5595
Spatial Reference: 102645
(2229)
VCSWkid(5773)
LatestVCSWkid(5773)
Initial Extent:
XMin: 6504290.3905
YMin: 1928503.5595
XMax: 6511437.3905
YMax: 1933432.5595
Spatial Reference: 102645
(2229)
VCSWkid(5773)
LatestVCSWkid(5773)
Full Extent:
XMin: 6504290.3905
YMin: 1928503.5595
XMax: 6511437.3905
YMax: 1933432.5595
Spatial Reference: 102645
(2229)
VCSWkid(5773)
LatestVCSWkid(5773)
Pixel Size X: 0.5
Pixel Size Y: 0.5
Band Count: 3
Pixel Type: U8
RasterFunction Infos: {"rasterFunctionInfos": [{
"name": "None",
"description": "",
"help": ""
}]}
Mensuration Capabilities: Basic
Has Histograms: true
Has Colormap: false
Has Multi Dimensions : false
Rendering Rule:
Min Scale: 0
Max Scale: 0
Copyright Text:
Service Data Type: esriImageServiceDataTypeRGB
Min Values: 0, 0, 0
Max Values: 253, 253, 253
Mean Values: 23.579382648477, 24.752056692087, 23.305787409972
Standard Deviation Values: 51.508656527611, 50.593997628971, 46.828439742872
Object ID Field:
Fields:
None
Default Mosaic Method: Center
Allowed Mosaic Methods:
SortField:
SortValue: null
Mosaic Operator: First
Default Compression Quality: 75
Default Resampling Method: Bilinear
Max Record Count: null
Max Image Height: 4100
Max Image Width: 15000
Max Download Image Count: null
Max Mosaic Image Count: null
Allow Raster Function: true
Allow Copy: null
Allow Analysis: null
Allow Compute TiePoints: false
Supports Statistics: false
Supports Advanced Queries: false
Use StandardizedQueries: true
Raster Type Infos:
Name: Raster Dataset
Description: Supports all ArcGIS Raster Datasets
Help:
Has Raster Attribute Table: false
Edit Fields Info: null
Ownership Based AccessControl For Rasters: null
Child Resources:
Info
Histograms
Key Properties
Legend
Raster Function Infos
Supported Operations:
Export Image
Identify
Measure
Compute Histograms
Compute Statistics Histograms
Get Samples
Compute Class Statistics
Query Boundary
Compute Pixel Location
Compute Angles
Validate
Project