{
 "currentVersion": 10.91,
 "serviceDescription": "ANSS_Aerials/2022_Big_Tujunga_Reservoir",
 "name": "ANSS_Aerials/2022_Big_Tujunga_Reservoir",
 "description": "",
 "extent": {
  "xmin": 6504290.3905,
  "ymin": 1928503.5595,
  "xmax": 6511437.3905,
  "ymax": 1933432.5595,
  "spatialReference": {
   "wkid": 102645,
   "latestWkid": 2229,
   "vcsWkid": 5773,
   "latestVcsWkid": 5773
  }
 },
 "initialExtent": {
  "xmin": 6504290.3905,
  "ymin": 1928503.5595,
  "xmax": 6511437.3905,
  "ymax": 1933432.5595,
  "spatialReference": {
   "wkid": 102645,
   "latestWkid": 2229,
   "vcsWkid": 5773,
   "latestVcsWkid": 5773
  }
 },
 "fullExtent": {
  "xmin": 6504290.3905,
  "ymin": 1928503.5595,
  "xmax": 6511437.3905,
  "ymax": 1933432.5595,
  "spatialReference": {
   "wkid": 102645,
   "latestWkid": 2229,
   "vcsWkid": 5773,
   "latestVcsWkid": 5773
  }
 },
 "heightModelInfo": {
  "heightModel": "gravity_related_height",
  "vertCRS": "EGM96_Geoid",
  "heightUnit": "meter"
 },
 "pixelSizeX": 0.5,
 "pixelSizeY": 0.5,
 "bandCount": 3,
 "pixelType": "U8",
 "minPixelSize": 0,
 "maxPixelSize": 0,
 "copyrightText": "",
 "serviceDataType": "esriImageServiceDataTypeRGB",
 "minValues": [
  0,
  0,
  0
 ],
 "maxValues": [
  253,
  253,
  253
 ],
 "meanValues": [
  23.579382648477,
  24.752056692087,
  23.305787409972
 ],
 "stdvValues": [
  51.508656527611,
  50.593997628971,
  46.828439742872
 ],
 "objectIdField": "",
 "fields": [],
 "capabilities": "Image,Metadata,Mensuration",
 "defaultMosaicMethod": "Center",
 "allowedMosaicMethods": "",
 "sortField": "",
 "sortValue": null,
 "sortAscending": true,
 "mosaicOperator": "First",
 "defaultCompressionQuality": 75,
 "defaultResamplingMethod": "Bilinear",
 "maxImageHeight": 4100,
 "maxImageWidth": 15000,
 "allowRasterFunction": true,
 "rasterFunctionInfos": [
  {
   "name": "None",
   "description": "",
   "help": ""
  }
 ],
 "rasterTypeInfos": [
  {
   "name": "Raster Dataset",
   "description": "Supports all ArcGIS Raster Datasets",
   "help": ""
  }
 ],
 "mensurationCapabilities": "Basic",
 "hasHistograms": true,
 "hasColormap": false,
 "hasRasterAttributeTable": false,
 "minScale": 0,
 "maxScale": 0,
 "exportTilesAllowed": false,
 "hasMultidimensions": false,
 "supportsStatistics": false,
 "supportsAdvancedQueries": false,
 "editFieldsInfo": null,
 "ownershipBasedAccessControlForRasters": null,
 "allowComputeTiePoints": false,
 "useStandardizedQueries": true,
 "advancedQueryCapabilities": {
  "useStandardizedQueries": true,
  "supportsStatistics": false,
  "supportsOrderBy": false,
  "supportsDistinct": false,
  "supportsPagination": false
 },
 "spatialReference": {
  "wkid": 102645,
  "latestWkid": 2229,
  "vcsWkid": 5773,
  "latestVcsWkid": 5773
 }
}