{
 "currentVersion": 10.91,
 "serviceDescription": "ANSS_Aerials/2022_Malibu_Canyon_Road_Tunnel",
 "name": "ANSS_Aerials/2022_Malibu_Canyon_Road_Tunnel",
 "description": "",
 "extent": {
  "xmin": 6346724.0171,
  "ymin": 1848132.0263,
  "xmax": 6347952.8171,
  "ymax": 1849425.1763,
  "spatialReference": {
   "wkid": 102645,
   "latestWkid": 2229,
   "vcsWkid": 5773,
   "latestVcsWkid": 5773
  }
 },
 "initialExtent": {
  "xmin": 6346724.0171,
  "ymin": 1848132.0263,
  "xmax": 6347952.8171,
  "ymax": 1849425.1763,
  "spatialReference": {
   "wkid": 102645,
   "latestWkid": 2229,
   "vcsWkid": 5773,
   "latestVcsWkid": 5773
  }
 },
 "fullExtent": {
  "xmin": 6346724.0171,
  "ymin": 1848132.0263,
  "xmax": 6347952.8171,
  "ymax": 1849425.1763,
  "spatialReference": {
   "wkid": 102645,
   "latestWkid": 2229,
   "vcsWkid": 5773,
   "latestVcsWkid": 5773
  }
 },
 "heightModelInfo": {
  "heightModel": "gravity_related_height",
  "vertCRS": "EGM96_Geoid",
  "heightUnit": "meter"
 },
 "pixelSizeX": 0.14999999999997726,
 "pixelSizeY": 0.1499999999999892,
 "bandCount": 3,
 "pixelType": "U8",
 "minPixelSize": 0,
 "maxPixelSize": 0,
 "copyrightText": "",
 "serviceDataType": "esriImageServiceDataTypeRGB",
 "minValues": [
  0,
  0,
  0
 ],
 "maxValues": [
  253,
  253,
  252
 ],
 "meanValues": [
  58.491082990924,
  59.319822590381,
  53.196656094707
 ],
 "stdvValues": [
  71.00173167311,
  67.830059614918,
  59.00624745854
 ],
 "objectIdField": "",
 "fields": [],
 "capabilities": "Image,Metadata,Mensuration",
 "defaultMosaicMethod": "Center",
 "allowedMosaicMethods": "",
 "sortField": "",
 "sortValue": null,
 "sortAscending": true,
 "mosaicOperator": "First",
 "defaultCompressionQuality": 75,
 "defaultResamplingMethod": "Bilinear",
 "maxImageHeight": 4100,
 "maxImageWidth": 15000,
 "allowRasterFunction": true,
 "rasterFunctionInfos": [
  {
   "name": "None",
   "description": "",
   "help": ""
  }
 ],
 "rasterTypeInfos": [
  {
   "name": "Raster Dataset",
   "description": "Supports all ArcGIS Raster Datasets",
   "help": ""
  }
 ],
 "mensurationCapabilities": "Basic",
 "hasHistograms": true,
 "hasColormap": false,
 "hasRasterAttributeTable": false,
 "minScale": 0,
 "maxScale": 0,
 "exportTilesAllowed": false,
 "hasMultidimensions": false,
 "supportsStatistics": false,
 "supportsAdvancedQueries": false,
 "editFieldsInfo": null,
 "ownershipBasedAccessControlForRasters": null,
 "allowComputeTiePoints": false,
 "useStandardizedQueries": true,
 "advancedQueryCapabilities": {
  "useStandardizedQueries": true,
  "supportsStatistics": false,
  "supportsOrderBy": false,
  "supportsDistinct": false,
  "supportsPagination": false
 },
 "spatialReference": {
  "wkid": 102645,
  "latestWkid": 2229,
  "vcsWkid": 5773,
  "latestVcsWkid": 5773
 }
}
